BEGIN:VCALENDAR
PRODID:-//Det Danske Spejderkorps//NONSGML Gruppeweb//EN
VERSION:2.0
CALSCALE:GREGORIAN
X-PUBLISHED-TTL:PT1H
X-WR-CALNAME:Minier i Viby-spejderne
METHOD:PUBLISH
BEGIN:VEVENT
UID:gruppeweb.dk:7206:event:202
DTSTAMP:20260422T105024Z
LAST-MODIFIED:20250319T194858Z
SUMMARY:Mini Divisionsturnering 2025
DESCRIPTION:Mini divisions turnering.\n\n\n\n2025\n\n\n\n9-11/5 Ravnsø hyt
 te\n\n\n\n\n \n\n\n\n \n\n\n\n \n\n\n\n \n\n\nMinisteriet for Oprethol
 delse af Tidslinje indkalder alle minispejdere i  \nAarhus Skov Division.\
 n\n\n\nSpejdere\, I indkaldes hermed til at hjælpe ikke bare jeres tid\, 
 men også  \nfortid og fremtid!\n\n\n\nEn hackergruppe\, som kalder sig Kr
 ageridderne\, har lagt blokeringer i  \ntidslinjen og kræver at alle spej
 dergrupper nedlægges\, før de vil  \ngenoprette tidslinjen.\n\n\n\nVores
  konge\, Frederik den 10.\, har modsat sig sådanne krav. Og samtidig  \np
 ålagt os - Ministeriet for Opretholdelse af Tidslinjen (MOAT) - at bede j
 er  \n- minispejdere i Aarhus Skov Division - om hjælp. Det er konges  \n
 overbevisning at er det er jer og kun jer\, der kan klare denne vigtige op
 gave\n\n\n\nVigtigt: Du skal medbringe tøj til alt slags vejr\, ikke noge
 t det er  \nelektronisk (det kan hackerne bruge imod os).\n\n\n\n\n \n\n\
 n\n \n\n\n\n \n\n\nRettes til af grupperne\n\n\n\nAnkomst til Javngyde k
 l. 17. Vi går herfra til Ravnsøhytten. Tasker køres  \npå trailer til 
 hytten\, men sørg for at pakke alt i én rygsæk (ingen løse  \nposer).\
 n\n\n\nDerudover skal alle medbringe en madpakke og drikkedunk til fredag 
 aften.\n\n\n\n\n \n\n\nPrisen for turen er 300 kr. og tilmeldingen sker p
 å hjemmesiden.\n\n\n\nPakkeliste efter hjemmesiden\n\n\n\n\n \n\n\nI ska
 l selv køre til Ravnsøhytten med ankomst kl. 17.00 ved Javngyde\n\n\n\no
 g skal hentes igen samme sted søndag kl. 12.00.\n\n\n\nAdressen: Ravnsøv
 ej 36\, 8680 Ry\n\n\n\n\n \n\n\n\n \n\n\n\n \n\n\n\n \n\n\n\n \n\n\n\
 n \n\n\n\n \n\n\n\n \n\n\n \n\n\n\n
URL:https://www.viby-spejderne.dk/begivenhed/mini-divisionsturnering-2025
DTSTART:20250509T150000Z
DTEND:20250511T100000Z
LOCATION:
END:VEVENT
BEGIN:VEVENT
UID:gruppeweb.dk:7206:event:208
DTSTAMP:20260422T105024Z
LAST-MODIFIED:20250616T060334Z
SUMMARY:Sommerafslutning i Viby-spejderne
DESCRIPTION:\n\nKære spejdere og forældre \n\nInden vi går på sommerfe
 rie\, vi vil gerne runde et herligt spejderår af i  \nhyggeligt lag. Held
 igvis ses mange af os også på sommerlejren. \n\nTil sommerafslutningen 
 skal vi spise lidt fra grillen og nogle gode  \nsalater. Tag gerne søske
 nde og andre interesserede med. Bemærk at der gr.  \nindkøb er tilmeldi
 ng til arrangementet. Børn spiser for 20kr og voksne for  \n30kr.\n\nDe s
 pejdere\, der har været indmeldt i Viby-Spejderne det meste af det sidste
   \når får en årsstjerne. \n\nVi glæder os til at se Jer og til en hy
 ggelig aften. \n\nKh lederne \n\n\n
URL:https://www.viby-spejderne.dk/begivenhed/sommerafslutning-i-viby-spejde
 rne
DTSTART:20250616T160000Z
DTEND:20250616T180000Z
LOCATION:Viby-spejderne\, Bjørnbaksvej 15\, 8260 Viby J
END:VEVENT
BEGIN:VEVENT
UID:gruppeweb.dk:7206:event:205
DTSTAMP:20260422T105024Z
LAST-MODIFIED:20250615T103811Z
SUMMARY:Sommerlejr Silkeborg Åkrogen 2025
DESCRIPTION: --------------------------------------------------------------
 ---------------\n\nKære spejder!\n\n\n\n\n \n\n\nSommeren kommer hurtige
 re end vi tror det\, og det betyder\, at vi skal på  \nsommerlejr – juh
 u!\n\n\n\n\n \n\n\n*HVOR skal vi hen?* Vi skal til en spejderhytte i Silk
 eborg\, der ligger  \nnaturskønt og i nærheden af en masse fede aktivite
 ter.\n\n\n\nAdressen er: ”Aakrogen” Svejbækvej 1\, 8600 Silkeborg. Ar
 rangér meget  \ngerne samkørsel indbyrdes \n\n\n\n\n \n\n\n*HVORNÅR
  skal vi være der?* Vi mødes alle sammen ved Aakrogen mandag d. 7.  \nju
 li klokken 12.00 /(der serveres snacks i løbet af eftermiddagen\, spis  \
 nfrokost hjemmefra)/\n\n\n\n\n \n\n\nVIGTIGT: Al parkering foregår på P
 -pladsen v. ”Skyttehusets Outdoor  \nCamp” Herfra skal man gå op til 
 hytten. Lederne tager i mod Jer ved  \nparkeringspladsen.  \n\n\n\n\n \n
 \n\n*Hvis man er mikro- eller minispejder\,* slutter lejren ved Aakrogen t
 orsdag  \nd. 10. juli klokken 13.00. (halv lejr) \n\n\n\n*Hvis man er jun
 ior- eller tropspejder\,* slutter lejren ved Aakrogen lørdag  \nd. 12. ju
 li klokken 13.00. (hel lejr) \n\n\n\n\n \n\n\n*HVAD skal der ske?* Vi sk
 al ud at se en masse af områdets attraktioner –  \nf.eks. AQUA. Vi skal
  hygge i lejren og ro på Gudenåen i kano.\n\n\n\n\n \n\n\n*HVAD skal je
 g have med?* Hav in mente\, at du skal sove udenfor i telt og  \nopholde d
 ig udenfor hele dagen. Pak sovepose\, liggeunderlag\, varmt nattøj\,  \ne
 vt. pude og bamse\, badetøj og håndklæde\, skiftetøj\, regntøj\, varm
 t tøj  \ntil om aftenen\, gode gå-sko\, spejdertørklæde og evt. unifor
 m\, ske + kniv +  \ngaffel + kop + skål + tallerken + viskestykke samlet 
 i én pose\, solcreme og  \ngerne en hat\, toilettaske med diverse\, gult 
 sygesikringskort\, en lille  \nturtaske/dagsrygsæk. Skriv navn i alle din
 e ting og pak tasken\, så du ved\,  \nhvad der er i den hvor. /Er man min
 i- eller juniorspejder skal man pakke i en  \nvandrerygsæk\, man selv kan
  gå med. //\n//(Se pakkelisten på hjemmesiden)\n/*Mikro- og minispejder
 e må ikke have elektronik (smartwatches\, telefoner\,  \niPads o.lign. me
 d) *\n\n\n\nPris: \n\nMikro og mini: 900 kr. (halv lejr) \n\n\n\nJunior
  og trop: 1100 kr. (hel lejr) \n\n\n\n\n\n \n\n\nVi glæder os rigtig me
 get – spejderhilsen fra lederne.\n\n\n\n
URL:https://www.viby-spejderne.dk/begivenhed/sommerlejr-silkeborg-aakrogen-
 2025
DTSTART:20250707T100000Z
DTEND:20250712T100000Z
LOCATION:Åkrogen\, Svejbækvej 1\, 8600 Silkeborg\, Danmark
END:VEVENT
BEGIN:VEVENT
UID:gruppeweb.dk:7206:event:214
DTSTAMP:20260422T105024Z
LAST-MODIFIED:20251215T170331Z
SUMMARY:Juleafslutning/Julelotteri 2025
DESCRIPTION:JULEAFSLUTNING HOS VIBY-SPEJDERNE\n\n\nKære spejdere og foræl
 dre \n\nTraditionen tro inviteres i til lotteri og æbleskiver hos Viby s
 pejderne i  \nforbindelse med juleafslutningen. Vi har fået nogle flotte 
 præmier og lover  \nmax julehygge.\nTid og sted: Mandag den 15. december
  kl. 18:00-20:00 Viby-spejdernes hytte\n\nHUSK at medbringe egen service!
  \n\nFor at lette opvask-logistikken\, skal I selv medbringe service til 
 the/kaffe\,  \nsaftevand og æbleskiver. \n\nTak!\n\nArrangementet foreg
 år udendørs!\n\nDet koster 25 kr. per person at deltage. Tilmeld og beta
 l senest 12-12-2025  \nkl 20:00.\n\nVi glæder os til at se Jer! \n\nHusk
 eliste \n\n * Service (tallerken\, krus\, glas) til alle tilmeldte\n   \n
  * Tøj til en aften udendørs.\n   \n * Præmier til lotteriet\, hvis I h
 ar skaffet det. \n   \n\nSpejderhilsen\, lederne \n\n
URL:https://www.viby-spejderne.dk/begivenhed/juleafslutningjulelotteri-2025
DTSTART:20251215T170000Z
DTEND:20251215T190000Z
LOCATION:Viby-spejderne\, Bjørnbaksvej 15\, 8260 Viby J
END:VEVENT
BEGIN:VEVENT
UID:gruppeweb.dk:7206:event:219
DTSTAMP:20260422T105024Z
LAST-MODIFIED:20260304T202142Z
SUMMARY:Arbejdsdag Forår 2026
DESCRIPTION:\n
URL:https://www.viby-spejderne.dk/begivenhed/arbejdsdag-foraar-2026
DTSTART:20260321T103000Z
DTEND:20260321T140000Z
LOCATION:Viby-spejderne\, Bjørnbaksvej 15\, 8260 Viby J
END:VEVENT
BEGIN:VEVENT
UID:gruppeweb.dk:7206:event:220
DTSTAMP:20260422T105024Z
LAST-MODIFIED:20260306T175550Z
SUMMARY:Sct. Georgstur 2026
DESCRIPTION:Kære spejdere!\n\n\nFind Jeres riddermod og soveposer frem\, f
 or snart er det tid til Sct.  \nGeorgstur!\n\nEfter arbejsdagen starter en
  hyggelig overnatning ved spejderhytten\, hvor  \nrammen sættes af eventy
 ret om alle spejderes idol: Den modige og hjælpsomme  \nSct. Georg.\n\n\n
 Turen starter den 21. marts klokken 16:00 ved spejderhytten.\n\nTuren slut
 ter den 22. marts klokken 11:00 ved spejderhytten.\n\n\nTuren koster 150 k
 r. Tilmelding inden den 18/03 kl 20:00\n\n\n\nVi skal sove udenfor i telt.
  Husk varmt nattøj\, sovepose\, underlag\,  \nskiftetøj og tøj efter ve
 jret\, bestik + kop + skål + tallerken +  \nviskestykke samlet i en pose\
 , toilettaske\, uniform\, tørklæde\, lommelygte  \nmv.\n\nSkriv navn i a
 lt\, pak sammen med spejderen.\n\nLad venligst elektronikkken blive hjemme
 !\n\n\n\nVi glæder os!\n\nSpejderhilsen lederne\n\n \n\n
URL:https://www.viby-spejderne.dk/begivenhed/sct-georgstur-2026
DTSTART:20260321T150000Z
DTEND:20260322T100000Z
LOCATION:Viby-spejderne\, Bjørnbaksvej 15\, 8260 Viby J
END:VEVENT
BEGIN:VEVENT
UID:gruppeweb.dk:7206:event:218
DTSTAMP:20260422T105024Z
LAST-MODIFIED:20260408T153656Z
SUMMARY:Mini Divisionsturnering 2026
DESCRIPTION:\n\n\n\n\n\n\n\n\n \n\n\n\n \n\n\n\n \n\n\n\n \n\n\n\n \n\
 n\n\n \n\n\n\n \n\n\n\n \n\n\n \n\n\n\n
URL:https://www.viby-spejderne.dk/begivenhed/mini-divisionsturnering-2026
DTSTART:20260410T150000Z
DTEND:20260412T094500Z
LOCATION:Ryekol\, Galgebakken 12\, 8680 Ry
END:VEVENT
END:VCALENDAR
